BEGIN:VCALENDAR
VERSION:2.0
PRODID:-//ChamberMaster//Event Calendar 2.0//EN
METHOD:PUBLISH
X-PUBLISHED-TTL:P1H
REFRESH-INTERVAL:P1H
CALSCALE:GREGORIAN
BEGIN:VTIMEZONE
TZID:America/Chicago
BEGIN:DAYLIGHT
RRULE:FREQ=YEARLY;BYMONTH=3;BYDAY=2SU
DTSTART:20070101T000000
TZOFFSETFROM:-0600
TZOFFSETTO:-0500
TZNAME:Central Daylight Time
END:DAYLIGHT
BEGIN:STANDARD
RRULE:FREQ=YEARLY;BYMONTH=11;BYDAY=1SU
DTSTART:20070101T000000
TZOFFSETFROM:-0500
TZOFFSETTO:-0600
TZNAME:Central Standard Time
END:STANDARD
END:VTIMEZONE
BEGIN:VEVENT
DTSTART;TZID=America/Chicago:20260513T090000
DTEND;TZID=America/Chicago:20260513T120000
X-MICROSOFT-CDO-ALLDAYEVENT:FALSE
SUMMARY:RPR REALTORS® Property Resource (3 CE)
DESCRIPTION:Instructor - Bob McMillan
X-ALT-DESC;FMTTYPE=text/html:Instructor - Bob McMillan
LOCATION:30 Hightower Place Florence AL 35630
UID:e.2725.1412770
SEQUENCE:3
DTSTAMP:20260423T150905Z
URL:https://members.shoalsaar.com/eventcalendar/Details/rpr-realtors-property-resource-3-ce-1669563?sourceTypeId=Hub
END:VEVENT
END:VCALENDAR
