BEGIN:VCALENDAR
VERSION:2.0
PRODID:-//ChamberMaster//Event Calendar 2.0//EN
METHOD:PUBLISH
X-PUBLISHED-TTL:P1H
REFRESH-INTERVAL:P1H
CALSCALE:GREGORIAN
BEGIN:VTIMEZONE
TZID:America/Chicago
BEGIN:DAYLIGHT
RRULE:FREQ=YEARLY;BYMONTH=3;BYDAY=2SU
DTSTART:20070101T000000
TZOFFSETFROM:-0600
TZOFFSETTO:-0500
TZNAME:Central Daylight Time
END:DAYLIGHT
BEGIN:STANDARD
RRULE:FREQ=YEARLY;BYMONTH=11;BYDAY=1SU
DTSTART:20070101T000000
TZOFFSETFROM:-0500
TZOFFSETTO:-0600
TZNAME:Central Standard Time
END:STANDARD
END:VTIMEZONE
BEGIN:VEVENT
DTSTART;TZID=America/Chicago:20260401T100000
DTEND;TZID=America/Chicago:20260401T110000
X-MICROSOFT-CDO-ALLDAYEVENT:FALSE
SUMMARY:Community Involvement Meeting
DESCRIPTION:** Canceled ** due to committee working at this year's Empty Bowl Luncheon.
X-ALT-DESC;FMTTYPE=text/html:<!DOCTYPE html><html><head><title></title></head><body aria-disabled="false"><p>** Canceled ** due to committee working at this year&#39\;s Empty Bowl Luncheon.</p></body></html>
LOCATION:30 Hightower Place Florence AL 35630
UID:e.2725.1373530
SEQUENCE:3
DTSTAMP:20260423T150858Z
URL:https://members.shoalsaar.com/eventcalendar/Details/community-involvement-meeting-1621328?sourceTypeId=Hub
END:VEVENT
END:VCALENDAR
